BEGIN:VCALENDAR
VERSION:2.0
PRODID:-//Kathryn Wheat - ECPv6.15.18//NONSGML v1.0//EN
CALSCALE:GREGORIAN
METHOD:PUBLISH
X-WR-CALNAME:Kathryn Wheat
X-ORIGINAL-URL:https://kathrynwheat.com
X-WR-CALDESC:Events for Kathryn Wheat
REFRESH-INTERVAL;VALUE=DURATION:PT1H
X-Robots-Tag:noindex
X-PUBLISHED-TTL:PT1H
BEGIN:VTIMEZONE
TZID:America/Chicago
BEGIN:DAYLIGHT
TZOFFSETFROM:-0600
TZOFFSETTO:-0500
TZNAME:CDT
DTSTART:20250309T080000
END:DAYLIGHT
BEGIN:STANDARD
TZOFFSETFROM:-0500
TZOFFSETTO:-0600
TZNAME:CST
DTSTART:20251102T070000
END:STANDARD
BEGIN:DAYLIGHT
TZOFFSETFROM:-0600
TZOFFSETTO:-0500
TZNAME:CDT
DTSTART:20260308T080000
END:DAYLIGHT
BEGIN:STANDARD
TZOFFSETFROM:-0500
TZOFFSETTO:-0600
TZNAME:CST
DTSTART:20261101T070000
END:STANDARD
BEGIN:DAYLIGHT
TZOFFSETFROM:-0600
TZOFFSETTO:-0500
TZNAME:CDT
DTSTART:20270314T080000
END:DAYLIGHT
BEGIN:STANDARD
TZOFFSETFROM:-0500
TZOFFSETTO:-0600
TZNAME:CST
DTSTART:20271107T070000
END:STANDARD
END:VTIMEZONE
BEGIN:VEVENT
DTSTART;TZID=America/Chicago:20260422T071130
DTEND;TZID=America/Chicago:20260422T071130
DTSTAMP:20260422T071130
CREATED:20220214T215621Z
LAST-MODIFIED:20220214T215621Z
UID:18090-1776841890-1776841890@kathrynwheat.com
SUMMARY:Century Communities - Granger Pines
DESCRIPTION:
URL:https://kathrynwheat.com/venue/century-communities-granger-pines/
LOCATION:Century Communities – Granger Pines\, 16768 Needlepoint Dr.\, Conroe\, Texas\, 77302
END:VEVENT
END:VCALENDAR