BEGIN:VCALENDAR
VERSION:2.0
PRODID:-//Kathryn Wheat - ECPv6.15.18//NONSGML v1.0//EN
CALSCALE:GREGORIAN
METHOD:PUBLISH
X-ORIGINAL-URL:https://kathrynwheat.com
X-WR-CALDESC:Events for Kathryn Wheat
REFRESH-INTERVAL;VALUE=DURATION:PT1H
X-Robots-Tag:noindex
X-PUBLISHED-TTL:PT1H
BEGIN:VTIMEZONE
TZID:America/Chicago
BEGIN:DAYLIGHT
TZOFFSETFROM:-0600
TZOFFSETTO:-0500
TZNAME:CDT
DTSTART:20210314T080000
END:DAYLIGHT
BEGIN:STANDARD
TZOFFSETFROM:-0500
TZOFFSETTO:-0600
TZNAME:CST
DTSTART:20211107T070000
END:STANDARD
BEGIN:DAYLIGHT
TZOFFSETFROM:-0600
TZOFFSETTO:-0500
TZNAME:CDT
DTSTART:20220313T080000
END:DAYLIGHT
BEGIN:STANDARD
TZOFFSETFROM:-0500
TZOFFSETTO:-0600
TZNAME:CST
DTSTART:20221106T070000
END:STANDARD
BEGIN:DAYLIGHT
TZOFFSETFROM:-0600
TZOFFSETTO:-0500
TZNAME:CDT
DTSTART:20230312T080000
END:DAYLIGHT
BEGIN:STANDARD
TZOFFSETFROM:-0500
TZOFFSETTO:-0600
TZNAME:CST
DTSTART:20231105T070000
END:STANDARD
END:VTIMEZONE
BEGIN:VEVENT
DTSTART;TZID=America/Chicago:20220706T100000
DTEND;TZID=America/Chicago:20220706T130000
DTSTAMP:20260423T071908
CREATED:20220503T155130Z
LAST-MODIFIED:20220516T183248Z
UID:10000955-1657101600-1657112400@kathrynwheat.com
SUMMARY:VIRTUAL CE - Understand Builders\, Attract Buyers\, Close More Deals! #42872
DESCRIPTION:VIRTUAL CLASS \nRSVP: CLICK HERE \n3-hour credit  | Taught by Kathryn C Wheat \nLogin begins at 9:30 \nRoom will be locked at 10:00 \nKathryn C. Wheat School of Real Estate #9977
URL:https://kathrynwheat.com/event/virtual-ce-understand-builders-attract-buyers-close-more-deals-42872/
LOCATION:Zoom
CATEGORIES:EVENTS,HOUSTON,TREC CE classes,VIRTUAL
END:VEVENT
BEGIN:VEVENT
DTSTART;TZID=America/Chicago:20220713T100000
DTEND;TZID=America/Chicago:20220713T130000
DTSTAMP:20260423T071908
CREATED:20211216T125213Z
LAST-MODIFIED:20220314T220042Z
UID:10000898-1657706400-1657717200@kathrynwheat.com
SUMMARY:VIRTUAL CE - Social Media Marketing Basics #40712
DESCRIPTION:VIRTUAL CLASS \nRSVP: CLICK HERE \n3-hour credit  | Taught by John Barba \nLogin begins at 9:30 \nRoom will be locked at 10:00 \nKathryn C. Wheat School of Real Estate #9977
URL:https://kathrynwheat.com/event/virtual-ce-social-media-marketing-basics-40712/
LOCATION:Zoom
CATEGORIES:EVENTS,HOUSTON,TREC CE classes,VIRTUAL
END:VEVENT
BEGIN:VEVENT
DTSTART;TZID=America/Chicago:20220713T100000
DTEND;TZID=America/Chicago:20220713T140000
DTSTAMP:20260423T071908
CREATED:20220520T154101Z
LAST-MODIFIED:20220706T175304Z
UID:10000962-1657706400-1657720800@kathrynwheat.com
SUMMARY:IN PERSON CE - TREC Legal Update I #42039
DESCRIPTION:IN PERSON CLASS \nRSVP: CLICK HERE \nLunch included \n4-hour credit  | Taught by Don Burns \nCheck in begins at 9:30 \n[Download the Legal Update I & II Student Manual] \nKathryn C. Wheat School of Real Estate #9977
URL:https://kathrynwheat.com/event/in-person-ce-trec-legal-update-i-42039-6/
LOCATION:The Palm Event Center\, 285 Central Pine St.\, Montgomery\, 77316
CATEGORIES:EVENTS,HOUSTON,TREC CE classes,VIRTUAL
END:VEVENT
BEGIN:VEVENT
DTSTART;TZID=America/Chicago:20220713T100000
DTEND;TZID=America/Chicago:20220713T140000
DTSTAMP:20260423T071908
CREATED:20220520T171504Z
LAST-MODIFIED:20220623T173333Z
UID:10000965-1657706400-1657720800@kathrynwheat.com
SUMMARY:IN PERSON CE - Understanding Contracts & Forms #41621
DESCRIPTION:IN PERSON CLASS \nRSVP: Kelle.Gandy@PerryHomes.com \n4-hour Contracts credit / Lunch Included \nNo Late Arrivals! \nCheck in begins at 9:30 \nTaught by Lynne McCarthy \n Click HERE for downloads needed for this class \nKathryn C. Wheat School of Real Estate #9977
URL:https://kathrynwheat.com/event/in-person-ce-understanding-contracts-forms-41621-8/
LOCATION:Perry Homes – Tavola 65′\, 19208 Yellow Chestnut Lane\, New Caney\, Texas\, 77357
CATEGORIES:EVENTS,HOUSTON,TREC CE classes,VIRTUAL
END:VEVENT
BEGIN:VEVENT
DTSTART;TZID=America/Chicago:20220714T100000
DTEND;TZID=America/Chicago:20220714T130000
DTSTAMP:20260423T071908
CREATED:20220526T201918Z
LAST-MODIFIED:20220610T204036Z
UID:10000967-1657792800-1657803600@kathrynwheat.com
SUMMARY:IN PERSON CE - Instagram for Realtors #43531
DESCRIPTION:IN PERSON CLASS \nRSVP: CLICK HERE \nLunch included \n3-hour credit  | Taught by Kerrie Saeger \nCheck in begins at 9:30 \nKathryn C. Wheat School of Real Estate #9977
URL:https://kathrynwheat.com/event/in-person-ce-instagram-for-realtors-43531-3/
LOCATION:Highland Homes Jordan Ranch\, 29623 Apple Glen Court\, Fulshear\, 77423
CATEGORIES:EVENTS,HOUSTON,TREC CE classes,VIRTUAL
END:VEVENT
BEGIN:VEVENT
DTSTART;TZID=America/Chicago:20220720T100000
DTEND;TZID=America/Chicago:20220720T120000
DTSTAMP:20260423T071908
CREATED:20220311T224142Z
LAST-MODIFIED:20220331T174908Z
UID:10000933-1658311200-1658318400@kathrynwheat.com
SUMMARY:IN PERSON CE - TikTok 2.0 for Realtors #39777
DESCRIPTION:IN PERSON CLASS \nRSVP: MGombar@empirecontinental.com \nLunch included \n2-hour credit  | Taught by Kerrie Saeger \nCheck in begins at 9:30 \nKathryn C. Wheat School of Real Estate #9977
URL:https://kathrynwheat.com/event/in-person-ce-tiktok-2-0-for-realtors-39777-5/
LOCATION:Dellrose – Chesmar 40′\, 17031 Jasmine Cottage Drive\, Hockley\, TX\, 77447
CATEGORIES:EVENTS,HOUSTON,TREC CE classes,VIRTUAL
END:VEVENT
BEGIN:VEVENT
DTSTART;TZID=America/Chicago:20220720T100000
DTEND;TZID=America/Chicago:20220720T130000
DTSTAMP:20260423T071908
CREATED:20220503T161131Z
LAST-MODIFIED:20220503T164659Z
UID:10000956-1658311200-1658322000@kathrynwheat.com
SUMMARY:VIRTUAL CE - Build Your Real Estate Marketing Plan #40914
DESCRIPTION:VIRTUAL CLASS \nRSVP: CLICK HERE \n3-hour credit  | Taught by John Barba \nLogin begins at 9:30 \nRoom will be locked at 10:00 \nKathryn C. Wheat School of Real Estate #9977
URL:https://kathrynwheat.com/event/virtual-ce-build-your-real-estate-marketing-plan-40914-2/
LOCATION:Zoom
CATEGORIES:EVENTS,HOUSTON,TREC CE classes,VIRTUAL
END:VEVENT
BEGIN:VEVENT
DTSTART;TZID=America/Chicago:20220721T100000
DTEND;TZID=America/Chicago:20220721T130000
DTSTAMP:20260423T071908
CREATED:20220527T173301Z
LAST-MODIFIED:20220701T205844Z
UID:10000969-1658397600-1658408400@kathrynwheat.com
SUMMARY:IN PERSON CE - TikTok for Realtors #43861
DESCRIPTION:IN PERSON CLASS \nRSVP: CLICK HERE \nLunch included \n3-hour credit  | Taught by Kerrie Saeger \nCheck in begins at 9:30 \nKathryn C. Wheat School of Real Estate #9977
URL:https://kathrynwheat.com/event/in-person-ce-tiktok-for-realtors-coming-soon/
LOCATION:Harvest Green – Farmhouse\, 3400 Harvest Corner Drive\, Richmond\, TX\, 77406\, United States
CATEGORIES:EVENTS,HOUSTON,TREC CE classes,VIRTUAL
END:VEVENT
BEGIN:VEVENT
DTSTART;TZID=America/Chicago:20220726T100000
DTEND;TZID=America/Chicago:20220726T140000
DTSTAMP:20260423T071908
CREATED:20220311T233007Z
LAST-MODIFIED:20220331T175647Z
UID:10000940-1658829600-1658844000@kathrynwheat.com
SUMMARY:IN PERSON CE - TREC Legal Update II #42040
DESCRIPTION:IN PERSON CLASS \nRSVP: MGombar@empirecontinental.com \nLunch included \n4-hour credit  | Taught by Don Burns \nCheck in begins at 9:30 \n[Download the Legal Update I & II Student Manual] \nKathryn C. Wheat School of Real Estate #9977
URL:https://kathrynwheat.com/event/in-person-ce-trec-legal-update-ii-42040-4/
LOCATION:Coastal Point – Empire\, 4824 Crane Pass Lane\, League City\, TX\, 77573
CATEGORIES:EVENTS,HOUSTON,TREC CE classes,VIRTUAL
END:VEVENT
BEGIN:VEVENT
DTSTART;TZID=America/Chicago:20220727T100000
DTEND;TZID=America/Chicago:20220727T130000
DTSTAMP:20260423T071908
CREATED:20211216T125800Z
LAST-MODIFIED:20220726T194414Z
UID:10000899-1658916000-1658926800@kathrynwheat.com
SUMMARY:VIRTUAL CE - Tips and Tricks to Stage Like the Pros. #42827
DESCRIPTION:VIRTUAL CLASS \nRSVP: CLICK HERE \n3-hour credit  | Taught by Maritza Ortega \nLogin begins at 9:30 \nRoom will be locked at 10:00 \nKathryn C. Wheat School of Real Estate #9977
URL:https://kathrynwheat.com/event/virtual-ce-preparing-homes-to-sell-quickly-coming-soon/
LOCATION:Zoom
CATEGORIES:EVENTS,HOUSTON,TREC CE classes,VIRTUAL
END:VEVENT
BEGIN:VEVENT
DTSTART;TZID=America/Chicago:20220728T100000
DTEND;TZID=America/Chicago:20220728T130000
DTSTAMP:20260423T071908
CREATED:20220520T155013Z
LAST-MODIFIED:20220520T155013Z
UID:10000964-1659002400-1659013200@kathrynwheat.com
SUMMARY:IN PERSON CE - Instagram for Realtors #43531
DESCRIPTION:IN PERSON CLASS \nRSVP: Monicac@johnsondev.com \nLunch included \n3-hour credit  | Taught by Kerrie Saeger \nCheck in begins at 9:30 \nKathryn C. Wheat School of Real Estate #9977
URL:https://kathrynwheat.com/event/in-person-ce-instagram-for-realtors-43531/
LOCATION:The Palm Event Center\, 285 Central Pine St.\, Montgomery\, 77316
CATEGORIES:EVENTS,HOUSTON,TREC CE classes,VIRTUAL
END:VEVENT
END:VCALENDAR