BEGIN:VCALENDAR
VERSION:2.0
PRODID:-//Kathryn Wheat - ECPv6.15.18//NONSGML v1.0//EN
CALSCALE:GREGORIAN
METHOD:PUBLISH
X-ORIGINAL-URL:https://kathrynwheat.com
X-WR-CALDESC:Events for Kathryn Wheat
REFRESH-INTERVAL;VALUE=DURATION:PT1H
X-Robots-Tag:noindex
X-PUBLISHED-TTL:PT1H
BEGIN:VTIMEZONE
TZID:America/Chicago
BEGIN:DAYLIGHT
TZOFFSETFROM:-0600
TZOFFSETTO:-0500
TZNAME:CDT
DTSTART:20200308T080000
END:DAYLIGHT
BEGIN:STANDARD
TZOFFSETFROM:-0500
TZOFFSETTO:-0600
TZNAME:CST
DTSTART:20201101T070000
END:STANDARD
BEGIN:DAYLIGHT
TZOFFSETFROM:-0600
TZOFFSETTO:-0500
TZNAME:CDT
DTSTART:20210314T080000
END:DAYLIGHT
BEGIN:STANDARD
TZOFFSETFROM:-0500
TZOFFSETTO:-0600
TZNAME:CST
DTSTART:20211107T070000
END:STANDARD
BEGIN:DAYLIGHT
TZOFFSETFROM:-0600
TZOFFSETTO:-0500
TZNAME:CDT
DTSTART:20220313T080000
END:DAYLIGHT
BEGIN:STANDARD
TZOFFSETFROM:-0500
TZOFFSETTO:-0600
TZNAME:CST
DTSTART:20221106T070000
END:STANDARD
END:VTIMEZONE
BEGIN:VEVENT
DTSTART;TZID=America/Chicago:20210318T100000
DTEND;TZID=America/Chicago:20210318T120000
DTSTAMP:20260422T123211
CREATED:20210202T192351Z
LAST-MODIFIED:20210202T200905Z
UID:10000822-1616061600-1616068800@kathrynwheat.com
SUMMARY:VIRTUAL TREC CE - Don’t WALK-THROUGH it Alone #40218
DESCRIPTION:VIRTUAL CLASS \nRegister on Zoom: CLICK HERE  \n2-hour credit \nRoom will be locked at 10:00 \nLogin begins at 9:30 \nTaught by Shannon Broussard \nKathryn C. Wheat School of Real Estate
URL:https://kathrynwheat.com/event/virtual-trec-ce-dont-walk-through-it-alone-40218-3/
LOCATION:Zoom
CATEGORIES:HOUSTON,TREC CE classes,VIRTUAL
END:VEVENT
BEGIN:VEVENT
DTSTART;TZID=America/Chicago:20210317T100000
DTEND;TZID=America/Chicago:20210317T140000
DTSTAMP:20260422T123211
CREATED:20210123T170351Z
LAST-MODIFIED:20210227T230545Z
UID:10000818-1615975200-1615989600@kathrynwheat.com
SUMMARY:VIRTUAL TREC CE - TREC Legal Update I #37796
DESCRIPTION:VIRTUAL CLASS \nTHIS CLASS IS A PRIVATE EVENT FOR RE/MAX GRAND \n4-hour credit \nRoom will be locked at 10:00 \nLogin begins at 9:30 \nTaught by Don Burns \nDownload Student Manual HERE \nKathryn C. Wheat School of Real Estate
URL:https://kathrynwheat.com/event/virtual-trec-ce-trec-legal-update-i-37796-6/
LOCATION:Zoom
CATEGORIES:HOUSTON,TREC CE classes,VIRTUAL
END:VEVENT
BEGIN:VEVENT
DTSTART;TZID=America/Chicago:20210317T100000
DTEND;TZID=America/Chicago:20210317T130000
DTSTAMP:20260422T123211
CREATED:20210212T194344Z
LAST-MODIFIED:20210212T194344Z
UID:10000832-1615975200-1615986000@kathrynwheat.com
SUMMARY:VIRTUAL TREC CE - Show Me the Money – Navigating the Mortgage Process #39109
DESCRIPTION:VIRTUAL CLASS \nRSVP: CLICK HERE \n3-hour credit  | Taught by Kerrie Saeger \nLogin begins at 9:30 \nRoom will be locked at 10:00 \nKathryn C. Wheat School of Real Estate
URL:https://kathrynwheat.com/event/virtual-trec-ce-show-me-the-money-navigating-the-mortgage-process-39109-3/
LOCATION:Zoom
CATEGORIES:HOUSTON,TREC CE classes,VIRTUAL
END:VEVENT
BEGIN:VEVENT
DTSTART;TZID=America/Chicago:20210317T100000
DTEND;TZID=America/Chicago:20210317T130000
DTSTAMP:20260422T123211
CREATED:20201218T200140Z
LAST-MODIFIED:20210310T123014Z
UID:10000777-1615975200-1615986000@kathrynwheat.com
SUMMARY:VIRTUAL TREC CE - Inspection Basics for Realtors #38360
DESCRIPTION:VIRTUAL CLASS \n3-hour credit | You will need to register on Zoom for this class! \nTaught by Darrel Creacy \nLogin begins at 9:30 \nRoom will be locked at 10:00 \nRSVP: CLICK HERE \nKathryn C. Wheat School of Real Estate
URL:https://kathrynwheat.com/event/virtual-trec-ce-inspection-basics-for-realtors-38360-2/
LOCATION:Zoom
CATEGORIES:HOUSTON,TREC CE classes,VIRTUAL
END:VEVENT
BEGIN:VEVENT
DTSTART;TZID=America/Chicago:20210310T100000
DTEND;TZID=America/Chicago:20210310T120000
DTSTAMP:20260422T123211
CREATED:20201229T222010Z
LAST-MODIFIED:20210210T192659Z
UID:10000791-1615370400-1615377600@kathrynwheat.com
SUMMARY:VIRTUAL TREC CE - Diversity & Discrimination in Real Estate #40347
DESCRIPTION:VIRTUAL CLASS \n2-hour credit | Taught by Tikila Adolph \nLogin begins at 9:30 \nRoom will be locked at 10:00 \nRSVP: CLICK HERE \nKathryn C. Wheat School of Real Estate
URL:https://kathrynwheat.com/event/virtual-trec-ce-diversity-discrimination-in-real-estate-40347-3/
LOCATION:Zoom
CATEGORIES:HOUSTON,TREC CE classes,VIRTUAL
ORGANIZER;CN="Cane Island":MAILTO:lawren@risecommunities.net
END:VEVENT
BEGIN:VEVENT
DTSTART;TZID=America/Chicago:20210309T100000
DTEND;TZID=America/Chicago:20210309T140000
DTSTAMP:20260422T123211
CREATED:20210106T221742Z
LAST-MODIFIED:20210109T174201Z
UID:10000810-1615284000-1615298400@kathrynwheat.com
SUMMARY:VIRTUAL TREC CE - TREC Legal Update I #37796
DESCRIPTION:VIRTUAL CLASS \nRSVP: CLICK HERE \n4-hour credit  | Taught by Don Burns \nDownload Student Manual CLICK HERE \nLogin begins at 9:30 \nRoom will be locked at 10:00 \nKathryn C. Wheat School of Real Estate
URL:https://kathrynwheat.com/event/virtual-trec-ce-trec-legal-update-i-37796-3/
LOCATION:Zoom
CATEGORIES:HOUSTON,TREC CE classes,VIRTUAL
END:VEVENT
BEGIN:VEVENT
DTSTART;TZID=America/Chicago:20210304T100000
DTEND;TZID=America/Chicago:20210304T130000
DTSTAMP:20260422T123211
CREATED:20210106T213354Z
LAST-MODIFIED:20210216T211011Z
UID:10000807-1614852000-1614862800@kathrynwheat.com
SUMMARY:VIRTUAL TREC CE - Understand Builders\, Attract Buyers\, Close More Deals! #39025
DESCRIPTION:VIRTUAL CLASS \nRSVP: CLICK HERE \n3-hour credit  | Taught by Kathryn C. Wheat \nLogin begins at 9:30 \nRoom will be locked at 10:00 \nKathryn C. Wheat School of Real Estate
URL:https://kathrynwheat.com/event/virtual-trec-ce-understand-builders-attract-buyers-close-more-deals-39025-2/
LOCATION:Zoom
CATEGORIES:HOUSTON,TREC CE classes,VIRTUAL
END:VEVENT
BEGIN:VEVENT
DTSTART;TZID=America/Chicago:20210303T100000
DTEND;TZID=America/Chicago:20210303T160000
DTSTAMP:20260422T123211
CREATED:20210108T173031Z
LAST-MODIFIED:20210223T233749Z
UID:10000812-1614765600-1614787200@kathrynwheat.com
SUMMARY:VIRTUAL TREC CE - Broker Responsibility #39962
DESCRIPTION:ZOOM CLASS \n6-hour credit | CLICK HERE to Register \nRoom will be locked at 10:00 \nLogin begins at 9:30 \nTaught by Don Burns \nDownload the Broker Responsibility Student Manual  \nKathryn C. Wheat School of Real Estate
URL:https://kathrynwheat.com/event/virtual-trec-ce-broker-responsibility-39962-3/
LOCATION:Zoom
CATEGORIES:HOUSTON,TREC CE classes,VIRTUAL
END:VEVENT
BEGIN:VEVENT
DTSTART;TZID=America/Chicago:20210303T100000
DTEND;TZID=America/Chicago:20210303T140000
DTSTAMP:20260422T123211
CREATED:20201230T193133Z
LAST-MODIFIED:20210209T234005Z
UID:10000794-1614765600-1614780000@kathrynwheat.com
SUMMARY:VIRTUAL TREC CE - Understanding Contracts & Forms #37532
DESCRIPTION:VIRTUAL CLASS \nThis class satisfies the new 2021 TREC Contracts Class requirement! \nRSVP: CLICK HERE \n4-hour credit  | Taught by Lynne Boynton \nLogin begins at 9:30 \nRoom will be locked at 10:00 \nKathryn C. Wheat School of Real Estate
URL:https://kathrynwheat.com/event/virtual-trec-ce-understanding-contracts-forms-37532-8/
LOCATION:Zoom
CATEGORIES:HOUSTON,TREC CE classes,VIRTUAL
END:VEVENT
BEGIN:VEVENT
DTSTART;TZID=America/Chicago:20210302T100000
DTEND;TZID=America/Chicago:20210302T120000
DTSTAMP:20260422T123211
CREATED:20210106T220724Z
LAST-MODIFIED:20210203T141213Z
UID:10000809-1614679200-1614686400@kathrynwheat.com
SUMMARY:VIRTUAL TREC CE - Feedback Fundamentals – A Buyer’s Vantage Point #40804
DESCRIPTION:VIRTUAL CLASS \nRSVP: CLICK HERE \n2-hour credit  | Taught by Shannon Broussard \nLogin begins at 9:30 \nRoom will be locked at 10:00 \nKathryn C. Wheat School of Real Estate
URL:https://kathrynwheat.com/event/virtual-trec-ce-feedback-fundamentals-a-buyers-vantage-point-coming-soon-2/
LOCATION:Zoom
CATEGORIES:HOUSTON,TREC CE classes,VIRTUAL
END:VEVENT
BEGIN:VEVENT
DTSTART;TZID=America/Chicago:20210225T100000
DTEND;TZID=America/Chicago:20210225T130000
DTSTAMP:20260422T123211
CREATED:20210126T204636Z
LAST-MODIFIED:20210128T170710Z
UID:10000820-1614247200-1614258000@kathrynwheat.com
SUMMARY:VIRTUAL TREC CE - Navigating zipForms #40655
DESCRIPTION:VIRTUAL CLASS \nRSVP: CLICK HERE \n3-hour credit \nRoom will be locked at 10:00 \nLogin begins at 9:30 \nTaught by Lynne Boynton \nKathryn C. Wheat School of Real Estate
URL:https://kathrynwheat.com/event/virtual-trec-ce-navigating-zipforms-40655/
LOCATION:Zoom
CATEGORIES:HOUSTON,TREC CE classes,VIRTUAL
END:VEVENT
BEGIN:VEVENT
DTSTART;TZID=America/Chicago:20210225T100000
DTEND;TZID=America/Chicago:20210225T120000
DTSTAMP:20260422T123211
CREATED:20210106T215450Z
LAST-MODIFIED:20210122T155629Z
UID:10000808-1614247200-1614254400@kathrynwheat.com
SUMMARY:VIRTUAL TREC CE - Define & Build Your Brand #40654
DESCRIPTION:VIRTUAL CLASS \nRSVP: CLICK HERE \n2-hour credit  | Taught by Kathryn C. Wheat \nLogin begins at 9:30 \nRoom will be locked at 10:00 \nKathryn C. Wheat School of Real Estate
URL:https://kathrynwheat.com/event/virtual-trec-ce-define-build-your-brand-coming-soon-2/
LOCATION:Zoom
CATEGORIES:HOUSTON,TREC CE classes,VIRTUAL
END:VEVENT
BEGIN:VEVENT
DTSTART;TZID=America/Chicago:20210224T100000
DTEND;TZID=America/Chicago:20210224T140000
DTSTAMP:20260422T123211
CREATED:20210123T170725Z
LAST-MODIFIED:20210125T215652Z
UID:10000819-1614160800-1614175200@kathrynwheat.com
SUMMARY:VIRTUAL TREC CE - TREC Legal Update II #37797
DESCRIPTION:VIRTUAL CLASS \nTHIS CLASS IS A PRIVATE EVENT FOR RE/MAX GRAND \n4-hour credit \nRoom will be locked at 10:00 \nLogin begins at 9:30 \nTaught by Don Burns \nDownload Student Manual HERE \nKathryn C. Wheat School of Real Estate
URL:https://kathrynwheat.com/event/virtual-trec-ce-trec-legal-update-ii-37797-5/
LOCATION:Zoom
CATEGORIES:HOUSTON,TREC CE classes,VIRTUAL
END:VEVENT
BEGIN:VEVENT
DTSTART;TZID=America/Chicago:20210224T100000
DTEND;TZID=America/Chicago:20210224T140000
DTSTAMP:20260422T123211
CREATED:20201202T200451Z
LAST-MODIFIED:20201223T134649Z
UID:10000769-1614160800-1614175200@kathrynwheat.com
SUMMARY:VIRTUAL TREC CE - Understanding Contracts & Forms #37532
DESCRIPTION:ZOOM CLASS \nRegister on Zoom: CLICK HERE  \n4-hour credit \nRoom will be locked at 10:00 \nLogin begins at 9:30 \nTaught by Lynne Boynton \nKathryn C. Wheat School of Real Estate
URL:https://kathrynwheat.com/event/virtual-trec-ce-understanding-contracts-forms-37532-3/
LOCATION:Zoom
CATEGORIES:HOUSTON,TREC CE classes,VIRTUAL
END:VEVENT
BEGIN:VEVENT
DTSTART;TZID=America/Chicago:20210224T100000
DTEND;TZID=America/Chicago:20210224T120000
DTSTAMP:20260422T123211
CREATED:20210108T173822Z
LAST-MODIFIED:20210127T230621Z
UID:10000813-1614160800-1614168000@kathrynwheat.com
SUMMARY:VIRTUAL TREC CE - Lease to Lender #40219
DESCRIPTION:ZOOM CLASS \n2-hour credit | CLICK HERE to Register \nRoom will be locked at 10:00 \nLogin begins at 9:30 \nTaught by Shannon Broussard \nKathryn C. Wheat School of Real Estate
URL:https://kathrynwheat.com/event/virtual-trec-ce-lease-to-lender-40219-4/
LOCATION:Zoom
CATEGORIES:HOUSTON,TREC CE classes,VIRTUAL
END:VEVENT
BEGIN:VEVENT
DTSTART;TZID=America/Chicago:20210210T100000
DTEND;TZID=America/Chicago:20210210T140000
DTSTAMP:20260422T123211
CREATED:20201202T195830Z
LAST-MODIFIED:20201202T195830Z
UID:10000768-1612951200-1612965600@kathrynwheat.com
SUMMARY:VIRTUAL TREC CE - Understanding Contracts & Forms #37532
DESCRIPTION:ZOOM CLASS \nRegister on Zoom: CLICK HERE  \n4-hour credit \nRoom will be locked at 10:00 \nLogin begins at 9:30 \nTaught by Lynne Boynton \nKathryn C. Wheat School of Real Estate
URL:https://kathrynwheat.com/event/virtual-trec-ce-understanding-contracts-forms-37532-2/
LOCATION:Zoom
CATEGORIES:HOUSTON,TREC CE classes,VIRTUAL
END:VEVENT
BEGIN:VEVENT
DTSTART;TZID=America/Chicago:20210209T100000
DTEND;TZID=America/Chicago:20210209T130000
DTSTAMP:20260422T123211
CREATED:20201231T222746Z
LAST-MODIFIED:20210122T142526Z
UID:10000800-1612864800-1612875600@kathrynwheat.com
SUMMARY:VIRTUAL TREC CE - Show Me the Money – Navigating the Mortgage Process #39109
DESCRIPTION:VIRTUAL CLASS \nRSVP: CLICK HERE \n3-hour credit  | Taught by Kerrie Saeger \nLogin begins at 9:30 \nRoom will be locked at 10:00 \nKathryn C. Wheat School of Real Estate
URL:https://kathrynwheat.com/event/virtual-trec-ce-show-me-the-money-navigating-the-mortgage-process-39109-2/
LOCATION:Zoom
CATEGORIES:HOUSTON,TREC CE classes,VIRTUAL
END:VEVENT
BEGIN:VEVENT
DTSTART;TZID=America/Chicago:20210203T100000
DTEND;TZID=America/Chicago:20210203T120000
DTSTAMP:20260422T123211
CREATED:20201229T202446Z
LAST-MODIFIED:20210126T131455Z
UID:10000789-1612346400-1612353600@kathrynwheat.com
SUMMARY:VIRTUAL TREC CE - Home Insurance … flooded with questions? #37038
DESCRIPTION:VIRTUAL CLASS \nRSVP: CLICK HERE \n2-hour credit  | Taught by Angie Blacklock \nLogin begins at 9:30 \nRoom will be locked at 10:00 \nKathryn C. Wheat School of Real Estate
URL:https://kathrynwheat.com/event/virtual-trec-ce-home-insurance-flooded-with-questions-37038-2/
LOCATION:Zoom
CATEGORIES:HOUSTON,TREC CE classes,VIRTUAL
ORGANIZER;CN="Cane Island":MAILTO:lawren@risecommunities.net
END:VEVENT
BEGIN:VEVENT
DTSTART;TZID=America/Chicago:20210128T100000
DTEND;TZID=America/Chicago:20210128T140000
DTSTAMP:20260422T123211
CREATED:20210123T163648Z
LAST-MODIFIED:20210123T163648Z
UID:10000817-1611828000-1611842400@kathrynwheat.com
SUMMARY:VIRTUAL TREC CE - Understanding Contracts & Forms #37532
DESCRIPTION:VIRTUAL CLASS \nTHIS CLASS IS FULL \n4-hour credit \nRoom will be locked at 10:00 \nLogin begins at 9:30 \nTaught by Lynne Boynton \nKathryn C. Wheat School of Real Estate
URL:https://kathrynwheat.com/event/virtual-trec-ce-understanding-contracts-forms-37532-6/
LOCATION:Zoom
CATEGORIES:HOUSTON,TREC CE classes,VIRTUAL
END:VEVENT
BEGIN:VEVENT
DTSTART;TZID=America/Chicago:20210128T100000
DTEND;TZID=America/Chicago:20210128T130000
DTSTAMP:20260422T123211
CREATED:20201214T202350Z
LAST-MODIFIED:20201214T212509Z
UID:10000774-1611828000-1611838800@kathrynwheat.com
SUMMARY:VIRTUAL TREC CE - Preparing Homes to Sell Quickly #38523
DESCRIPTION:VIRTUAL CLASS \n3-hour credit | You will need to register on Zoom for this class! \nTaught by Maritza Ortega \nLogin begins at 9:30 \nRoom will be locked at 10:00 \nRSVP: CLICK HERE \nKathryn C. Wheat School of Real Estate
URL:https://kathrynwheat.com/event/virtual-trec-ce-preparing-homes-to-sell-quickly-38523/
LOCATION:Zoom
CATEGORIES:HOUSTON,TREC CE classes,VIRTUAL
END:VEVENT
BEGIN:VEVENT
DTSTART;TZID=America/Chicago:20210127T100000
DTEND;TZID=America/Chicago:20210127T120000
DTSTAMP:20260422T123211
CREATED:20201230T192741Z
LAST-MODIFIED:20210119T211358Z
UID:10000793-1611741600-1611748800@kathrynwheat.com
SUMMARY:VIRTUAL TREC CE - 5 Practices for a Healthy Real Estate Business #38361
DESCRIPTION:VIRTUAL CLASS \nRSVP: CLICK HERE \n2-hour credit  | Taught by Kathryn C. Wheat \nLogin begins at 9:30 \nRoom will be locked at 10:00 \nKathryn C. Wheat School of Real Estate
URL:https://kathrynwheat.com/event/virtual-trec-ce-5-practices-for-a-healthy-real-estate-business-38361/
LOCATION:Zoom
CATEGORIES:HOUSTON,TREC CE classes,VIRTUAL
END:VEVENT
BEGIN:VEVENT
DTSTART;TZID=America/Chicago:20210126T100000
DTEND;TZID=America/Chicago:20210126T140000
DTSTAMP:20260422T123211
CREATED:20210105T153953Z
LAST-MODIFIED:20210123T163427Z
UID:10000806-1611655200-1611669600@kathrynwheat.com
SUMMARY:VIRTUAL TREC CE - Understanding Contracts & Forms #37532
DESCRIPTION:VIRTUAL CLASS \nTHIS CLASS IS FULL \n4-hour credit \nRoom will be locked at 10:00 \nLogin begins at 9:30 \nTaught by Lynne Boynton \nKathryn C. Wheat School of Real Estate
URL:https://kathrynwheat.com/event/virtual-trec-ce-understanding-contracts-forms-37532-5/
LOCATION:Zoom
CATEGORIES:HOUSTON,TREC CE classes,VIRTUAL
END:VEVENT
BEGIN:VEVENT
DTSTART;TZID=America/Chicago:20210126T100000
DTEND;TZID=America/Chicago:20210126T140000
DTSTAMP:20260422T123211
CREATED:20201231T220631Z
LAST-MODIFIED:20210109T162414Z
UID:10000798-1611655200-1611669600@kathrynwheat.com
SUMMARY:VIRTUAL TREC CE - TREC Legal Update I #37796
DESCRIPTION:VIRTUAL CLASS \nRSVP: CLICK HERE \n4-hour credit  | Taught by Don Burns \nDownload Student Manual HERE \nLogin begins at 9:30 \nRoom will be locked at 10:00 \nKathryn C. Wheat School of Real Estate
URL:https://kathrynwheat.com/event/virtual-trec-ce-trec-legal-update-i-37796-2/
LOCATION:Zoom
CATEGORIES:DALLAS,TREC CE classes,VIRTUAL
END:VEVENT
BEGIN:VEVENT
DTSTART;TZID=America/Chicago:20210125T100000
DTEND;TZID=America/Chicago:20210125T130000
DTSTAMP:20260422T123211
CREATED:20210112T010948Z
LAST-MODIFIED:20210112T010948Z
UID:10000815-1611568800-1611579600@kathrynwheat.com
SUMMARY:VIRTUAL TREC CE - Understand Builders\, Attract Buyers\, Close More Deals! #39025
DESCRIPTION:VIRTUAL CLASS \nRSVP: CLICK HERE \n3-hour credit  | Taught by Kathryn C. Wheat \nLogin begins at 9:30 \nRoom will be locked at 10:00 \nKathryn C. Wheat School of Real Estate
URL:https://kathrynwheat.com/event/virtual-trec-ce-understand-builders-attract-buyers-close-more-deals-39025-3/
LOCATION:Zoom
CATEGORIES:HOUSTON,TREC CE classes,VIRTUAL
END:VEVENT
BEGIN:VEVENT
DTSTART;TZID=America/Chicago:20210122T100000
DTEND;TZID=America/Chicago:20210122T140000
DTSTAMP:20260422T123211
CREATED:20210109T162659Z
LAST-MODIFIED:20210112T212545Z
UID:10000814-1611309600-1611324000@kathrynwheat.com
SUMMARY:VIRTUAL TREC CE - TREC Legal Update I #37796
DESCRIPTION:VIRTUAL CLASS \nRSVP: Stop by the model to receive the Zoom registration link. \n422 Lake Day Drive Conroe\, TX 77304 \n281-352-0043 or 832-702-0668 \n4-hour credit  | Taught by Don Burns \nDownload Student Manual HERE \nLogin begins at 9:30 \nRoom will be locked at 10:00 \nKathryn C. Wheat School of Real Estate
URL:https://kathrynwheat.com/event/virtual-trec-ce-trec-legal-update-i-37796-4/
LOCATION:Zoom
CATEGORIES:HOUSTON,TREC CE classes,VIRTUAL
END:VEVENT
BEGIN:VEVENT
DTSTART;TZID=America/Chicago:20210121T100000
DTEND;TZID=America/Chicago:20210121T160000
DTSTAMP:20260422T123211
CREATED:20201202T195120Z
LAST-MODIFIED:20210104T175718Z
UID:10000767-1611223200-1611244800@kathrynwheat.com
SUMMARY:VIRTUAL TREC CE - Broker Responsibility #39962
DESCRIPTION:ZOOM CLASS \n6-hour credit | CLICK HERE to Register  \nRoom will be locked at 10:00 \nLogin begins at 9:30 \nTaught by Don Burns \nDownload the Broker Responsibility Student Manual  \nKathryn C. Wheat School of Real Estate
URL:https://kathrynwheat.com/event/virtual-trec-ce-broker-responsibility-39962-2/
LOCATION:Zoom
CATEGORIES:HOUSTON,TREC CE classes,VIRTUAL
END:VEVENT
BEGIN:VEVENT
DTSTART;TZID=America/Chicago:20210121T100000
DTEND;TZID=America/Chicago:20210121T120000
DTSTAMP:20260422T123211
CREATED:20201214T192206Z
LAST-MODIFIED:20201223T133741Z
UID:10000772-1611223200-1611230400@kathrynwheat.com
SUMMARY:VIRTUAL TREC CE - Diversity & Discrimination in Real Estate #40347
DESCRIPTION:VIRTUAL CLASS \n2-hour credit | You will need to register on Zoom for this class! \nTaught by Tikila Adolph \nLogin begins at 9:30 \nRoom will be locked at 10:00 \nRSVP: CLICK HERE \nKathryn C. Wheat School of Real Estate
URL:https://kathrynwheat.com/event/virtual-trec-ce-diversity-discrimination-in-real-estate-40347/
LOCATION:Zoom
CATEGORIES:HOUSTON,TREC CE classes,VIRTUAL
END:VEVENT
BEGIN:VEVENT
DTSTART;TZID=America/Chicago:20210120T100000
DTEND;TZID=America/Chicago:20210120T160000
DTSTAMP:20260422T123211
CREATED:20201202T194523Z
LAST-MODIFIED:20210104T175559Z
UID:10000766-1611136800-1611158400@kathrynwheat.com
SUMMARY:VIRTUAL TREC CE - Broker Responsibility #39962
DESCRIPTION:ZOOM CLASS \n6-hour credit | CLICK HERE to Register \nRoom will be locked at 10:00 \nLogin begins at 9:30 \nTaught by Don Burns \nDownload the Broker Responsibility Student Manual  \nKathryn C. Wheat School of Real Estate
URL:https://kathrynwheat.com/event/virtual-trec-ce-broker-responsibility-39962/
LOCATION:Zoom
CATEGORIES:HOUSTON,TREC CE classes,VIRTUAL
END:VEVENT
BEGIN:VEVENT
DTSTART;TZID=America/Chicago:20210119T100000
DTEND;TZID=America/Chicago:20210119T130000
DTSTAMP:20260422T123211
CREATED:20201223T141040Z
LAST-MODIFIED:20210119T211245Z
UID:10000782-1611050400-1611061200@kathrynwheat.com
SUMMARY:VIRTUAL TREC  CE - Coaching You to Success #40190
DESCRIPTION:VIRTUAL CLASS \nRegister on Zoom: CLICK HERE  \n3-hour credit \nRoom will be locked at 10:00 \nLogin begins at 9:30 \nTaught by Lynne Boynton \nKathryn C. Wheat School of Real Estate
URL:https://kathrynwheat.com/event/virtual-trec-ce-coaching-you-to-success-40190/
LOCATION:Zoom
CATEGORIES:HOUSTON,TREC CE classes,VIRTUAL
ORGANIZER;CN="Cane Island":MAILTO:lawren@risecommunities.net
END:VEVENT
BEGIN:VEVENT
DTSTART;TZID=America/Chicago:20210119T100000
DTEND;TZID=America/Chicago:20210119T130000
DTSTAMP:20260422T123211
CREATED:20200925T210710Z
LAST-MODIFIED:20201014T120818Z
UID:10000756-1611050400-1611061200@kathrynwheat.com
SUMMARY:Virtual TREC CE - Inspection Basics for Realtors #38360
DESCRIPTION:ZOOM VIRTUAL CLASS \n3-hour credit | You will need to pre-register on zoom for this class! \nRoom will be locked at 10:00 \nLogin begins at 9:30 \nTaught by Darrel Creacy \nTo RSVP and register on Zoom: CLICK HERE \nKathryn C. Wheat School of Real Estate
URL:https://kathrynwheat.com/event/virtual-trec-ce-inspection-basics-for-realtors-38360/
LOCATION:Zoom
CATEGORIES:HOUSTON,TREC CE classes,VIRTUAL
END:VEVENT
END:VCALENDAR