BEGIN:VCALENDAR
VERSION:2.0
PRODID:-//Kathryn Wheat - ECPv6.15.18//NONSGML v1.0//EN
CALSCALE:GREGORIAN
METHOD:PUBLISH
X-ORIGINAL-URL:https://kathrynwheat.com
X-WR-CALDESC:Events for Kathryn Wheat
REFRESH-INTERVAL;VALUE=DURATION:PT1H
X-Robots-Tag:noindex
X-PUBLISHED-TTL:PT1H
BEGIN:VTIMEZONE
TZID:America/Chicago
BEGIN:DAYLIGHT
TZOFFSETFROM:-0600
TZOFFSETTO:-0500
TZNAME:CDT
DTSTART:20200308T080000
END:DAYLIGHT
BEGIN:STANDARD
TZOFFSETFROM:-0500
TZOFFSETTO:-0600
TZNAME:CST
DTSTART:20201101T070000
END:STANDARD
BEGIN:DAYLIGHT
TZOFFSETFROM:-0600
TZOFFSETTO:-0500
TZNAME:CDT
DTSTART:20210314T080000
END:DAYLIGHT
BEGIN:STANDARD
TZOFFSETFROM:-0500
TZOFFSETTO:-0600
TZNAME:CST
DTSTART:20211107T070000
END:STANDARD
BEGIN:DAYLIGHT
TZOFFSETFROM:-0600
TZOFFSETTO:-0500
TZNAME:CDT
DTSTART:20220313T080000
END:DAYLIGHT
BEGIN:STANDARD
TZOFFSETFROM:-0500
TZOFFSETTO:-0600
TZNAME:CST
DTSTART:20221106T070000
END:STANDARD
END:VTIMEZONE
BEGIN:VEVENT
DTSTART;TZID=America/Chicago:20210506T100000
DTEND;TZID=America/Chicago:20210506T140000
DTSTAMP:20260422T093323
CREATED:20210330T161304Z
LAST-MODIFIED:20210330T161304Z
UID:10000839-1620295200-1620309600@kathrynwheat.com
SUMMARY:VIRTUAL TREC CE - TREC Legal Update I #37796
DESCRIPTION:VIRTUAL CLASS \nRSVP: CLICK HERE \n4-hour credit  | Taught by Don Burns \nDownload Student Manual CLICK HERE \nLogin begins at 9:30 \nRoom will be locked at 10:00 \nKathryn C. Wheat School of Real Estate
URL:https://kathrynwheat.com/event/virtual-trec-ce-trec-legal-update-i-37796-5/
LOCATION:Zoom
CATEGORIES:HOUSTON,TREC CE classes,VIRTUAL
END:VEVENT
BEGIN:VEVENT
DTSTART;TZID=America/Chicago:20210506T100000
DTEND;TZID=America/Chicago:20210506T120000
DTSTAMP:20260422T093323
CREATED:20210212T162713Z
LAST-MODIFIED:20210212T162713Z
UID:10000831-1620295200-1620302400@kathrynwheat.com
SUMMARY:VIRTUAL TREC  CE - 5 Practices for a Healthy Real Estate Business #38361
DESCRIPTION:VIRTUAL CLASS \nRSVP: CLICK HERE \n2-hour credit  | Taught by Kathryn C. Wheat \nLogin begins at 9:30 \nRoom will be locked at 10:00 \nKathryn C. Wheat School of Real Estate
URL:https://kathrynwheat.com/event/virtual-trec-ce-5-practices-for-a-healthy-real-estate-business-38361-3/
LOCATION:Zoom
CATEGORIES:HOUSTON,TREC CE classes,VIRTUAL
END:VEVENT
BEGIN:VEVENT
DTSTART;TZID=America/Chicago:20210505T100000
DTEND;TZID=America/Chicago:20210505T130000
DTSTAMP:20260422T093323
CREATED:20201218T195112Z
LAST-MODIFIED:20201218T204416Z
UID:10000776-1620208800-1620219600@kathrynwheat.com
SUMMARY:VIRTUAL TREC CE - Preparing Homes to Sell Quickly #38523
DESCRIPTION:VIRTUAL CLASS \n3-hour credit | You will need to register on Zoom for this class! \nTaught by Maritza Ortega \nLogin begins at 9:30 \nRoom will be locked at 10:00 \nRSVP: CLICK HERE \nKathryn C. Wheat School of Real Estate
URL:https://kathrynwheat.com/event/virtual-trec-ce-preparing-homes-to-sell-quickly-38523-3/
LOCATION:Zoom
CATEGORIES:HOUSTON,TREC CE classes,VIRTUAL
END:VEVENT
BEGIN:VEVENT
DTSTART;TZID=America/Chicago:20210504T100000
DTEND;TZID=America/Chicago:20210504T120000
DTSTAMP:20260422T093323
CREATED:20210407T121810Z
LAST-MODIFIED:20210415T145140Z
UID:10000843-1620122400-1620129600@kathrynwheat.com
SUMMARY:VIRTUAL TREC CE – Forbearance\, Foreclosure\, Bankruptcy\, and Short Sale #40947
DESCRIPTION:VIRTUAL CLASS \nRSVP: CLICK HERE \n2-hour credit  | Taught by Leslie Wertz \nLogin begins at 9:30 \nRoom will be locked at 10:00 \nKathryn C. Wheat School of Real Estate
URL:https://kathrynwheat.com/event/virtual-trec-ce-forbearance-foreclosure-bankruptcy-and-short-sale-40947/
LOCATION:Zoom
CATEGORIES:HOUSTON,TREC CE classes,VIRTUAL
ORGANIZER;CN="Brian Smith - Smith Group Property Inspections":MAILTO:smithinspections@gmail.com
END:VEVENT
BEGIN:VEVENT
DTSTART;TZID=America/Chicago:20210422T100000
DTEND;TZID=America/Chicago:20210422T140000
DTSTAMP:20260422T093323
CREATED:20210326T221545Z
LAST-MODIFIED:20210327T111507Z
UID:10000838-1619085600-1619100000@kathrynwheat.com
SUMMARY:San Antonio VIRTUAL TREC CE - Understanding Contracts & Forms #37532
DESCRIPTION:*San Antonio Area Realtors*\nZOOM CLASS \nRegister on Zoom: CLICK HERE \n4-hour credit \nRoom will be locked at 10:00 \nLogin begins at 9:30 \nTaught by Lynne Boynton \nPlease download these forms for class \nKathryn C. Wheat School of Real Estate
URL:https://kathrynwheat.com/event/virtual-trec-ce-understanding-contracts-forms-37532-11/
LOCATION:Zoom
CATEGORIES:SAN ANTONIO,TREC CE classes,VIRTUAL
END:VEVENT
BEGIN:VEVENT
DTSTART;TZID=America/Chicago:20210422T100000
DTEND;TZID=America/Chicago:20210422T120000
DTSTAMP:20260422T093323
CREATED:20210209T203808Z
LAST-MODIFIED:20210305T140217Z
UID:10000830-1619085600-1619092800@kathrynwheat.com
SUMMARY:VIRTUAL TREC CE - Forbearance\, Foreclosure\, Bankruptcy\, and Short Sale #40947
DESCRIPTION:VIRTUAL CLASS \nRSVP: CLICK HERE \n2-hour credit  | Taught by Leslie Wertz \nLogin begins at 9:30 \nRoom will be locked at 10:00 \nKathryn C. Wheat School of Real Estate
URL:https://kathrynwheat.com/event/virtual-trec-ce-forbearance-foreclosure-bankruptcy-and-short-sale-coming-soon/
LOCATION:Zoom
CATEGORIES:HOUSTON,TREC CE classes,VIRTUAL
END:VEVENT
BEGIN:VEVENT
DTSTART;TZID=America/Chicago:20210421T100000
DTEND;TZID=America/Chicago:20210421T130000
DTSTAMP:20260422T093323
CREATED:20210216T194347Z
LAST-MODIFIED:20210219T210512Z
UID:10000833-1618999200-1619010000@kathrynwheat.com
SUMMARY:VIRTUAL TREC CE - Titles\, Surveys\, Floods & MUD’s #37139
DESCRIPTION:VIRTUAL CLASS \nRegister: CLICK HERE  \n3-hour credit \nRoom will be locked at 10:00 \nLogin begins at 9:30 \nTaught by Lynne Boynton \nKathryn C. Wheat School of Real Estate
URL:https://kathrynwheat.com/event/virtual-trec-ce-titles-surveys-floods-muds-37139-3/
LOCATION:Zoom
CATEGORIES:HOUSTON,TREC CE classes,VIRTUAL
END:VEVENT
BEGIN:VEVENT
DTSTART;TZID=America/Chicago:20210414T100000
DTEND;TZID=America/Chicago:20210414T140000
DTSTAMP:20260422T093323
CREATED:20210209T201731Z
LAST-MODIFIED:20210223T175904Z
UID:10000829-1618394400-1618408800@kathrynwheat.com
SUMMARY:VIRTUAL TREC CE - Understanding Contracts & Forms #37532
DESCRIPTION:VIRTUAL ZOOM CLASS \nThis class satisfies the new 2021 TREC Contracts Class requirement! \nRSVP: CLICK HERE  \n4-hour credit \nRoom will be locked at 10:00 \nLogin begins at 9:30 \nTaught by Lynne Boynton \nKathryn C. Wheat School of Real Estate
URL:https://kathrynwheat.com/event/virtual-trec-ce-understanding-contracts-forms-37532-9/
LOCATION:Zoom
CATEGORIES:HOUSTON,TREC CE classes,VIRTUAL
END:VEVENT
BEGIN:VEVENT
DTSTART;TZID=America/Chicago:20210414T100000
DTEND;TZID=America/Chicago:20210414T130000
DTSTAMP:20260422T093323
CREATED:20201231T230222Z
LAST-MODIFIED:20210224T201337Z
UID:10000803-1618394400-1618405200@kathrynwheat.com
SUMMARY:VIRTUAL TREC CE - Build Your Marketing Plan #40914
DESCRIPTION:VIRTUAL CLASS \nRSVP: CLICK HERE \n3-hour credit  | Taught by John Barba \nLogin begins at 9:30 \nRoom will be locked at 10:00 \nKathryn C. Wheat School of Real Estate
URL:https://kathrynwheat.com/event/virtual-trec-ce-build-your-marketing-plan-coming-soon/
LOCATION:Zoom
CATEGORIES:HOUSTON,TREC CE classes,VIRTUAL
END:VEVENT
BEGIN:VEVENT
DTSTART;TZID=America/Chicago:20210413T100000
DTEND;TZID=America/Chicago:20210413T140000
DTSTAMP:20260422T093323
CREATED:20210324T202536Z
LAST-MODIFIED:20210326T223102Z
UID:10000837-1618308000-1618322400@kathrynwheat.com
SUMMARY:San Antonio VIRTUAL TREC CE - Understanding Contracts & Forms #37532
DESCRIPTION:*San Antonio Area Realtors*\nZOOM CLASS \nRegister on Zoom: CLICK HERE \n4-hour credit \nRoom will be locked at 10:00 \nLogin begins at 9:30 \nTaught by Lynne Boynton \nPlease download these forms for class \nKathryn C. Wheat School of Real Estate
URL:https://kathrynwheat.com/event/virtual-trec-ce-understanding-contracts-forms-37532-10/
LOCATION:Zoom
CATEGORIES:SAN ANTONIO,TREC CE classes,VIRTUAL
END:VEVENT
BEGIN:VEVENT
DTSTART;TZID=America/Chicago:20210413T100000
DTEND;TZID=America/Chicago:20210413T140000
DTSTAMP:20260422T093323
CREATED:20210106T222347Z
LAST-MODIFIED:20210108T142008Z
UID:10000811-1618308000-1618322400@kathrynwheat.com
SUMMARY:VIRTUAL TREC CE - TREC Legal Update II #37797
DESCRIPTION:VIRTUAL CLASS \nRSVP: CLICK HERE \n4-hour credit  | Taught by Don Burns \nLogin begins at 9:30 \nRoom will be locked at 10:00 \nKathryn C. Wheat School of Real Estate
URL:https://kathrynwheat.com/event/virtual-trec-ce-trec-legal-update-ii-37797-3/
LOCATION:Zoom
CATEGORIES:HOUSTON,TREC CE classes,VIRTUAL
END:VEVENT
BEGIN:VEVENT
DTSTART;TZID=America/Chicago:20210408T100000
DTEND;TZID=America/Chicago:20210408T130000
DTSTAMP:20260422T093323
CREATED:20210202T194318Z
LAST-MODIFIED:20210203T140511Z
UID:10000823-1617876000-1617886800@kathrynwheat.com
SUMMARY:VIRTUAL TREC CE - Social Media Marketing Basics #40712
DESCRIPTION:VIRTUAL CLASS \nRSVP: CLICK HERE \n3-hour credit  | Taught by John Barba \nLogin begins at 9:30 \nRoom will be locked at 10:00 \nKathryn C. Wheat School of Real Estate
URL:https://kathrynwheat.com/event/virtual-trec-ce-social-media-marketing-basics-40712/
LOCATION:Zoom
CATEGORIES:HOUSTON,TREC CE classes,VIRTUAL
END:VEVENT
BEGIN:VEVENT
DTSTART;TZID=America/Chicago:20210407T100000
DTEND;TZID=America/Chicago:20210407T140000
DTSTAMP:20260422T093323
CREATED:20210202T214557Z
LAST-MODIFIED:20210202T214557Z
UID:10000827-1617789600-1617804000@kathrynwheat.com
SUMMARY:VIRTUAL TREC CE - TREC Legal Update I #37796
DESCRIPTION:VIRTUAL CLASS \nRSVP: CLICK HERE \n4-hour credit  | Taught by Don Burns \nDownload Student Manual HERE \nLogin begins at 9:30 \nRoom will be locked at 10:00 \nKathryn C. Wheat School of Real Estate
URL:https://kathrynwheat.com/event/virtual-trec-ce-trec-legal-update-i-37796-7/
LOCATION:Zoom
CATEGORIES:HOUSTON,TREC CE classes,VIRTUAL
END:VEVENT
BEGIN:VEVENT
DTSTART;TZID=America/Chicago:20210407T100000
DTEND;TZID=America/Chicago:20210407T120000
DTSTAMP:20260422T093323
CREATED:20201218T202432Z
LAST-MODIFIED:20210404T214340Z
UID:10000778-1617789600-1617796800@kathrynwheat.com
SUMMARY:VIRTUAL TREC CE - Feedback Fundamentals – A Buyer’s Vantage Point #40804
DESCRIPTION:VIRTUAL CLASS \n2-hour credit | You will need to register on Zoom for this class! \nTaught by Shannon Broussard \nLogin begins at 9:30 \nRoom will be locked at 10:00 \nRSVP: CLICK HERE \nKathryn C. Wheat School of Real Estate
URL:https://kathrynwheat.com/event/virtual-trec-ce-feedback-fundamentals-a-buyers-vantage-point-coming-soon/
LOCATION:Zoom
CATEGORIES:HOUSTON,TREC CE classes,VIRTUAL
ORGANIZER;CN="Cane Island":MAILTO:lawren@risecommunities.net
END:VEVENT
BEGIN:VEVENT
DTSTART;TZID=America/Chicago:20210406T100000
DTEND;TZID=America/Chicago:20210406T120000
DTSTAMP:20260422T093323
CREATED:20210312T200337Z
LAST-MODIFIED:20210312T202026Z
UID:10000835-1617703200-1617710400@kathrynwheat.com
SUMMARY:VIRTUAL TREC CE - Home Insurance … flooded with questions? #37038
DESCRIPTION:VIRTUAL CLASS \nRSVP: CLICK HERE \n2-hour credit  | Taught by Angie Blacklock \nLogin begins at 9:30 \nRoom will be locked at 10:00 \nKathryn C. Wheat School of Real Estate
URL:https://kathrynwheat.com/event/virtual-trec-ce-home-insurance-flooded-with-questions-37038-4/
LOCATION:Zoom
CATEGORIES:HOUSTON,TREC CE classes,VIRTUAL
END:VEVENT
BEGIN:VEVENT
DTSTART;TZID=America/Chicago:20210331T100000
DTEND;TZID=America/Chicago:20210331T130000
DTSTAMP:20260422T093323
CREATED:20210305T133035Z
LAST-MODIFIED:20210308T171443Z
UID:10000834-1617184800-1617195600@kathrynwheat.com
SUMMARY:VIRTUAL TREC CE - Understand Builders\, Attract Buyers\, Close More Deals! #39025
DESCRIPTION:VIRTUAL CLASS \nRSVP: CLICK HERE \n3-hour credit  | Taught by Kathryn C. Wheat \nLogin begins at 9:30 \nRoom will be locked at 10:00 \nKathryn C. Wheat School of Real Estate
URL:https://kathrynwheat.com/event/virtual-trec-ce-understand-builders-attract-buyers-close-more-deals-39025-5/
LOCATION:Zoom
CATEGORIES:HOUSTON,TREC CE classes,VIRTUAL
END:VEVENT
BEGIN:VEVENT
DTSTART;TZID=America/Chicago:20210331T100000
DTEND;TZID=America/Chicago:20210331T130000
DTSTAMP:20260422T093323
CREATED:20201231T224658Z
LAST-MODIFIED:20210224T131700Z
UID:10000802-1617184800-1617195600@kathrynwheat.com
SUMMARY:VIRTUAL TREC CE - Social Media Marketing Basics #40712
DESCRIPTION:VIRTUAL CLASS \nRSVP: CLICK HERE \n3-hour credit  | Taught by John Barba \nLogin begins at 9:30 \nRoom will be locked at 10:00 \nKathryn C. Wheat School of Real Estate
URL:https://kathrynwheat.com/event/virtual-trec-ce-social-media-marketing-basics-coming-soon/
LOCATION:Zoom
CATEGORIES:HOUSTON,TREC CE classes,VIRTUAL
END:VEVENT
BEGIN:VEVENT
DTSTART;TZID=America/Chicago:20210325T100000
DTEND;TZID=America/Chicago:20210325T120000
DTSTAMP:20260422T093323
CREATED:20210119T163957Z
LAST-MODIFIED:20210120T135206Z
UID:10000816-1616666400-1616673600@kathrynwheat.com
SUMMARY:VIRTUAL TREC CE - Diversity & Discrimination in Real Estate #40347
DESCRIPTION:VIRTUAL CLASS \n2-hour credit | Register on Zoom CLICK HERE \nTaught by Tikila Adolph \nLogin begins at 9:30 \nRoom will be locked at 10:00 \nKathryn C. Wheat School of Real Estate
URL:https://kathrynwheat.com/event/virtual-trec-ce-diversity-discrimination-in-real-estate-40347-4/
LOCATION:Zoom
CATEGORIES:HOUSTON,TREC CE classes,VIRTUAL
END:VEVENT
BEGIN:VEVENT
DTSTART;TZID=America/Chicago:20210318T100000
DTEND;TZID=America/Chicago:20210318T140000
DTSTAMP:20260422T093323
CREATED:20210202T190627Z
LAST-MODIFIED:20210316T162136Z
UID:10000821-1616061600-1616076000@kathrynwheat.com
SUMMARY:VIRTUAL TREC CE – Understanding Contracts & Forms #37532
DESCRIPTION:ZOOM CLASS \nRegister on Zoom: *Sorry\, this class is full \n4-hour credit \nRoom will be locked at 10:00 \nLogin begins at 9:30 \nTaught by Lynne Boynton \nKathryn C. Wheat School of Real Estate
URL:https://kathrynwheat.com/event/virtual-trec-ce-understanding-contracts-forms-37532-7/
LOCATION:Zoom
CATEGORIES:HOUSTON,TREC CE classes,VIRTUAL
END:VEVENT
BEGIN:VEVENT
DTSTART;TZID=America/Chicago:20210318T100000
DTEND;TZID=America/Chicago:20210318T120000
DTSTAMP:20260422T093323
CREATED:20210208T210525Z
LAST-MODIFIED:20210208T210525Z
UID:10000828-1616061600-1616068800@kathrynwheat.com
SUMMARY:VIRTUAL TREC CE - 5 Practices for a Healthy Real Estate Business #38361
DESCRIPTION:VIRTUAL CE CLASS \nRSVP: CLICK HERE \n2-hour credit  | Taught by Kathryn C. Wheat \nLogin begins at 9:30 \nRoom will be locked at 10:00 \nKathryn C. Wheat School of Real Estate
URL:https://kathrynwheat.com/event/virtual-trec-ce-5-practices-for-a-healthy-real-estate-business-38361-2/
LOCATION:Zoom
CATEGORIES:HOUSTON,TREC CE classes,VIRTUAL
END:VEVENT
BEGIN:VEVENT
DTSTART;TZID=America/Chicago:20210318T100000
DTEND;TZID=America/Chicago:20210318T120000
DTSTAMP:20260422T093323
CREATED:20210202T192351Z
LAST-MODIFIED:20210202T200905Z
UID:10000822-1616061600-1616068800@kathrynwheat.com
SUMMARY:VIRTUAL TREC CE - Don’t WALK-THROUGH it Alone #40218
DESCRIPTION:VIRTUAL CLASS \nRegister on Zoom: CLICK HERE  \n2-hour credit \nRoom will be locked at 10:00 \nLogin begins at 9:30 \nTaught by Shannon Broussard \nKathryn C. Wheat School of Real Estate
URL:https://kathrynwheat.com/event/virtual-trec-ce-dont-walk-through-it-alone-40218-3/
LOCATION:Zoom
CATEGORIES:HOUSTON,TREC CE classes,VIRTUAL
END:VEVENT
BEGIN:VEVENT
DTSTART;TZID=America/Chicago:20210317T100000
DTEND;TZID=America/Chicago:20210317T140000
DTSTAMP:20260422T093323
CREATED:20210123T170351Z
LAST-MODIFIED:20210227T230545Z
UID:10000818-1615975200-1615989600@kathrynwheat.com
SUMMARY:VIRTUAL TREC CE - TREC Legal Update I #37796
DESCRIPTION:VIRTUAL CLASS \nTHIS CLASS IS A PRIVATE EVENT FOR RE/MAX GRAND \n4-hour credit \nRoom will be locked at 10:00 \nLogin begins at 9:30 \nTaught by Don Burns \nDownload Student Manual HERE \nKathryn C. Wheat School of Real Estate
URL:https://kathrynwheat.com/event/virtual-trec-ce-trec-legal-update-i-37796-6/
LOCATION:Zoom
CATEGORIES:HOUSTON,TREC CE classes,VIRTUAL
END:VEVENT
BEGIN:VEVENT
DTSTART;TZID=America/Chicago:20210317T100000
DTEND;TZID=America/Chicago:20210317T130000
DTSTAMP:20260422T093323
CREATED:20210212T194344Z
LAST-MODIFIED:20210212T194344Z
UID:10000832-1615975200-1615986000@kathrynwheat.com
SUMMARY:VIRTUAL TREC CE - Show Me the Money – Navigating the Mortgage Process #39109
DESCRIPTION:VIRTUAL CLASS \nRSVP: CLICK HERE \n3-hour credit  | Taught by Kerrie Saeger \nLogin begins at 9:30 \nRoom will be locked at 10:00 \nKathryn C. Wheat School of Real Estate
URL:https://kathrynwheat.com/event/virtual-trec-ce-show-me-the-money-navigating-the-mortgage-process-39109-3/
LOCATION:Zoom
CATEGORIES:HOUSTON,TREC CE classes,VIRTUAL
END:VEVENT
BEGIN:VEVENT
DTSTART;TZID=America/Chicago:20210317T100000
DTEND;TZID=America/Chicago:20210317T130000
DTSTAMP:20260422T093323
CREATED:20201218T200140Z
LAST-MODIFIED:20210310T123014Z
UID:10000777-1615975200-1615986000@kathrynwheat.com
SUMMARY:VIRTUAL TREC CE - Inspection Basics for Realtors #38360
DESCRIPTION:VIRTUAL CLASS \n3-hour credit | You will need to register on Zoom for this class! \nTaught by Darrel Creacy \nLogin begins at 9:30 \nRoom will be locked at 10:00 \nRSVP: CLICK HERE \nKathryn C. Wheat School of Real Estate
URL:https://kathrynwheat.com/event/virtual-trec-ce-inspection-basics-for-realtors-38360-2/
LOCATION:Zoom
CATEGORIES:HOUSTON,TREC CE classes,VIRTUAL
END:VEVENT
BEGIN:VEVENT
DTSTART;TZID=America/Chicago:20210310T100000
DTEND;TZID=America/Chicago:20210310T120000
DTSTAMP:20260422T093323
CREATED:20201229T222010Z
LAST-MODIFIED:20210210T192659Z
UID:10000791-1615370400-1615377600@kathrynwheat.com
SUMMARY:VIRTUAL TREC CE - Diversity & Discrimination in Real Estate #40347
DESCRIPTION:VIRTUAL CLASS \n2-hour credit | Taught by Tikila Adolph \nLogin begins at 9:30 \nRoom will be locked at 10:00 \nRSVP: CLICK HERE \nKathryn C. Wheat School of Real Estate
URL:https://kathrynwheat.com/event/virtual-trec-ce-diversity-discrimination-in-real-estate-40347-3/
LOCATION:Zoom
CATEGORIES:HOUSTON,TREC CE classes,VIRTUAL
ORGANIZER;CN="Cane Island":MAILTO:lawren@risecommunities.net
END:VEVENT
BEGIN:VEVENT
DTSTART;TZID=America/Chicago:20210309T100000
DTEND;TZID=America/Chicago:20210309T140000
DTSTAMP:20260422T093323
CREATED:20210106T221742Z
LAST-MODIFIED:20210109T174201Z
UID:10000810-1615284000-1615298400@kathrynwheat.com
SUMMARY:VIRTUAL TREC CE - TREC Legal Update I #37796
DESCRIPTION:VIRTUAL CLASS \nRSVP: CLICK HERE \n4-hour credit  | Taught by Don Burns \nDownload Student Manual CLICK HERE \nLogin begins at 9:30 \nRoom will be locked at 10:00 \nKathryn C. Wheat School of Real Estate
URL:https://kathrynwheat.com/event/virtual-trec-ce-trec-legal-update-i-37796-3/
LOCATION:Zoom
CATEGORIES:HOUSTON,TREC CE classes,VIRTUAL
END:VEVENT
BEGIN:VEVENT
DTSTART;TZID=America/Chicago:20210304T100000
DTEND;TZID=America/Chicago:20210304T130000
DTSTAMP:20260422T093323
CREATED:20210106T213354Z
LAST-MODIFIED:20210216T211011Z
UID:10000807-1614852000-1614862800@kathrynwheat.com
SUMMARY:VIRTUAL TREC CE - Understand Builders\, Attract Buyers\, Close More Deals! #39025
DESCRIPTION:VIRTUAL CLASS \nRSVP: CLICK HERE \n3-hour credit  | Taught by Kathryn C. Wheat \nLogin begins at 9:30 \nRoom will be locked at 10:00 \nKathryn C. Wheat School of Real Estate
URL:https://kathrynwheat.com/event/virtual-trec-ce-understand-builders-attract-buyers-close-more-deals-39025-2/
LOCATION:Zoom
CATEGORIES:HOUSTON,TREC CE classes,VIRTUAL
END:VEVENT
BEGIN:VEVENT
DTSTART;TZID=America/Chicago:20210303T100000
DTEND;TZID=America/Chicago:20210303T160000
DTSTAMP:20260422T093323
CREATED:20210108T173031Z
LAST-MODIFIED:20210223T233749Z
UID:10000812-1614765600-1614787200@kathrynwheat.com
SUMMARY:VIRTUAL TREC CE - Broker Responsibility #39962
DESCRIPTION:ZOOM CLASS \n6-hour credit | CLICK HERE to Register \nRoom will be locked at 10:00 \nLogin begins at 9:30 \nTaught by Don Burns \nDownload the Broker Responsibility Student Manual  \nKathryn C. Wheat School of Real Estate
URL:https://kathrynwheat.com/event/virtual-trec-ce-broker-responsibility-39962-3/
LOCATION:Zoom
CATEGORIES:HOUSTON,TREC CE classes,VIRTUAL
END:VEVENT
BEGIN:VEVENT
DTSTART;TZID=America/Chicago:20210303T100000
DTEND;TZID=America/Chicago:20210303T140000
DTSTAMP:20260422T093323
CREATED:20201230T193133Z
LAST-MODIFIED:20210209T234005Z
UID:10000794-1614765600-1614780000@kathrynwheat.com
SUMMARY:VIRTUAL TREC CE - Understanding Contracts & Forms #37532
DESCRIPTION:VIRTUAL CLASS \nThis class satisfies the new 2021 TREC Contracts Class requirement! \nRSVP: CLICK HERE \n4-hour credit  | Taught by Lynne Boynton \nLogin begins at 9:30 \nRoom will be locked at 10:00 \nKathryn C. Wheat School of Real Estate
URL:https://kathrynwheat.com/event/virtual-trec-ce-understanding-contracts-forms-37532-8/
LOCATION:Zoom
CATEGORIES:HOUSTON,TREC CE classes,VIRTUAL
END:VEVENT
BEGIN:VEVENT
DTSTART;TZID=America/Chicago:20210302T100000
DTEND;TZID=America/Chicago:20210302T120000
DTSTAMP:20260422T093323
CREATED:20210106T220724Z
LAST-MODIFIED:20210203T141213Z
UID:10000809-1614679200-1614686400@kathrynwheat.com
SUMMARY:VIRTUAL TREC CE - Feedback Fundamentals – A Buyer’s Vantage Point #40804
DESCRIPTION:VIRTUAL CLASS \nRSVP: CLICK HERE \n2-hour credit  | Taught by Shannon Broussard \nLogin begins at 9:30 \nRoom will be locked at 10:00 \nKathryn C. Wheat School of Real Estate
URL:https://kathrynwheat.com/event/virtual-trec-ce-feedback-fundamentals-a-buyers-vantage-point-coming-soon-2/
LOCATION:Zoom
CATEGORIES:HOUSTON,TREC CE classes,VIRTUAL
END:VEVENT
END:VCALENDAR